BEGIN:VCALENDAR
VERSION:2.0
PRODID:-//178.254.10.74//NONSGML kigkonsult.se iCalcreator 2.20//
CALSCALE:GREGORIAN
METHOD:PUBLISH
X-WR-TIMEZONE:Europe/Berlin
BEGIN:VEVENT
UID:event102@OGS-Wiesdorf
DTSTAMP:20260419T145822Z
CATEGORIES:Ferien
DESCRIPTION:Weihnachtsferien ( OGS geschlossen)\nKategorie: Ferien\nICS-Lin
 k: https://www.ogs-wiesdorf.de/index.php?option=com_jem&view=event&id=102:
 weihnachtsferien-ogs-geschlossen\n
DTSTART;VALUE=DATE:20211224
DTEND;VALUE=DATE:20220108
SUMMARY:Weihnachtsferien ( OGS geschlossen)
URL:https://www.ogs-wiesdorf.de/index.php?option=com_jem&view=event&id=102:
 weihnachtsferien-ogs-geschlossen
END:VEVENT
END:VCALENDAR