BEGIN:VCALENDAR
VERSION:2.0
PRODID:-//178.254.10.74//NONSGML kigkonsult.se iCalcreator 2.20//
CALSCALE:GREGORIAN
METHOD:PUBLISH
X-WR-TIMEZONE:Europe/Berlin
BEGIN:VEVENT
UID:event105@OGS-Wiesdorf
DTSTAMP:20260423T205203Z
CATEGORIES:Ferien
DESCRIPTION:3. beweglicher Ferientag (OGS geöffnet)\nKategorie: Ferien\nICS
 -Link: https://www.ogs-wiesdorf.de/index.php?option=com_jem&view=event&id=
 105:3-beweglicher-ferientag-ogs-geoeffnet\n
DTSTART;VALUE=DATE:20220527
DTEND;VALUE=DATE:20220528
SUMMARY:3. beweglicher Ferientag (OGS geöffnet)
URL:https://www.ogs-wiesdorf.de/index.php?option=com_jem&view=event&id=105:
 3-beweglicher-ferientag-ogs-geoeffnet
END:VEVENT
END:VCALENDAR