BEGIN:VCALENDAR
VERSION:2.0
PRODID:-//178.254.10.74//NONSGML kigkonsult.se iCalcreator 2.20//
CALSCALE:GREGORIAN
METHOD:PUBLISH
X-WR-TIMEZONE:Europe/Berlin
BEGIN:VEVENT
UID:event107@OGS-Wiesdorf
DTSTAMP:20260425T222923Z
CATEGORIES:Ferien
DESCRIPTION:Osterferien (OGS Woche 1 07:30-16:30)geöffnet)\nKategorie: Feri
 en\nICS-Link: https://www.ogs-wiesdorf.de/index.php?option=com_jem&view=ev
 ent&id=107:osterferien-ogs-woche-1-07-30-16-30-geoeffnet\n
DTSTART;VALUE=DATE:20220411
DTEND;VALUE=DATE:20220423
SUMMARY:Osterferien (OGS Woche 1 07:30-16:30)geöffnet)
URL:https://www.ogs-wiesdorf.de/index.php?option=com_jem&view=event&id=107:
 osterferien-ogs-woche-1-07-30-16-30-geoeffnet
END:VEVENT
END:VCALENDAR